BEGIN:VCALENDAR
VERSION:2.0
PRODID:-//Musquodoboit Valley Rifle &amp; Revolver Club (MVRRC) - ECPv6.15.20//NONSGML v1.0//EN
CALSCALE:GREGORIAN
METHOD:PUBLISH
X-ORIGINAL-URL:https://mvrrc.ca
X-WR-CALDESC:Events for Musquodoboit Valley Rifle &amp; Revolver Club (MVRRC)
REFRESH-INTERVAL;VALUE=DURATION:PT1H
X-Robots-Tag:noindex
X-PUBLISHED-TTL:PT1H
BEGIN:VTIMEZONE
TZID:America/Halifax
BEGIN:DAYLIGHT
TZOFFSETFROM:-0400
TZOFFSETTO:-0300
TZNAME:ADT
DTSTART:20220313T060000
END:DAYLIGHT
BEGIN:STANDARD
TZOFFSETFROM:-0300
TZOFFSETTO:-0400
TZNAME:AST
DTSTART:20221106T050000
END:STANDARD
BEGIN:DAYLIGHT
TZOFFSETFROM:-0400
TZOFFSETTO:-0300
TZNAME:ADT
DTSTART:20230312T060000
END:DAYLIGHT
BEGIN:STANDARD
TZOFFSETFROM:-0300
TZOFFSETTO:-0400
TZNAME:AST
DTSTART:20231105T050000
END:STANDARD
BEGIN:DAYLIGHT
TZOFFSETFROM:-0400
TZOFFSETTO:-0300
TZNAME:ADT
DTSTART:20240310T060000
END:DAYLIGHT
BEGIN:STANDARD
TZOFFSETFROM:-0300
TZOFFSETTO:-0400
TZNAME:AST
DTSTART:20241103T050000
END:STANDARD
END:VTIMEZONE
BEGIN:VEVENT
DTSTART;TZID=America/Halifax:20230617T100000
DTEND;TZID=America/Halifax:20230617T140000
DTSTAMP:20260419T142648
CREATED:20230305T222411Z
LAST-MODIFIED:20230814T132658Z
UID:10000268-1686996000-1687010400@mvrrc.ca
SUMMARY:Black Powder Shoot (Please open event for more info)
DESCRIPTION:The MVRRC Black Powder Group holds a monthly informal shoot for all black powder firearms\, both original and reproduction. The only restriction is the firearm must be a design which predates 1900. Everyone is welcome. From the experienced shooter to the new BP shooter\, including the curious who may be interested in trying a BP firearm. \nRifle 1 & Pistol 1 ranges are reserved for this event. These ranges are not available to the general membership. \nAll other ranges are available to the general membership.
URL:https://mvrrc.ca/event/black-powder-shoot-please-open-event-for-more-info-2023-05-20/2023-06-17/
CATEGORIES:Special Events
END:VEVENT
END:VCALENDAR