BEGIN:VCALENDAR
VERSION:2.0
PRODID:-//Musquodoboit Valley Rifle &amp; Revolver Club (MVRRC) - ECPv6.15.20//NONSGML v1.0//EN
CALSCALE:GREGORIAN
METHOD:PUBLISH
X-WR-CALNAME:Musquodoboit Valley Rifle &amp; Revolver Club (MVRRC)
X-ORIGINAL-URL:https://mvrrc.ca
X-WR-CALDESC:Events for Musquodoboit Valley Rifle &amp; Revolver Club (MVRRC)
REFRESH-INTERVAL;VALUE=DURATION:PT1H
X-Robots-Tag:noindex
X-PUBLISHED-TTL:PT1H
BEGIN:VTIMEZONE
TZID:America/Halifax
BEGIN:DAYLIGHT
TZOFFSETFROM:-0400
TZOFFSETTO:-0300
TZNAME:ADT
DTSTART:20220313T060000
END:DAYLIGHT
BEGIN:STANDARD
TZOFFSETFROM:-0300
TZOFFSETTO:-0400
TZNAME:AST
DTSTART:20221106T050000
END:STANDARD
BEGIN:DAYLIGHT
TZOFFSETFROM:-0400
TZOFFSETTO:-0300
TZNAME:ADT
DTSTART:20230312T060000
END:DAYLIGHT
BEGIN:STANDARD
TZOFFSETFROM:-0300
TZOFFSETTO:-0400
TZNAME:AST
DTSTART:20231105T050000
END:STANDARD
BEGIN:DAYLIGHT
TZOFFSETFROM:-0400
TZOFFSETTO:-0300
TZNAME:ADT
DTSTART:20240310T060000
END:DAYLIGHT
BEGIN:STANDARD
TZOFFSETFROM:-0300
TZOFFSETTO:-0400
TZNAME:AST
DTSTART:20241103T050000
END:STANDARD
END:VTIMEZONE
BEGIN:VEVENT
DTSTART;TZID=America/Halifax:20230709T093000
DTEND;TZID=America/Halifax:20230709T160000
DTSTAMP:20260425T123245
CREATED:20230329T135243Z
LAST-MODIFIED:20230407T141046Z
UID:10000280-1688895000-1688918400@mvrrc.ca
SUMMARY:Pistol Level I Course (Please open event for more info)
DESCRIPTION:(The Pistol Level I Course is offered July 9 & Aug 27) \n1. Preregistration and prepayment required (no drop-ins)\n2. For the Course Description please go to the Training page on our website\n3. For What to Bring please go to the Training page on our website\n3. Max 10 students\n4. Clubhouse\, Pistol 3 & 7 reserved for this course\n5. Registration at 9 am\, course starts at 9:30 am\n6. Cancellations:\n(a) if less than 7 days before the course – no refund\n(b) prior to 7 days before the course – refund of course fee\, less $50
URL:https://mvrrc.ca/event/pistol-level-i-course-please-open-event-for-more-info-4/
CATEGORIES:Training Courses
END:VEVENT
END:VCALENDAR