BEGIN:VCALENDAR
VERSION:2.0
PRODID:-//Musquodoboit Valley Rifle &amp; Revolver Club (MVRRC) - ECPv6.15.20//NONSGML v1.0//EN
CALSCALE:GREGORIAN
METHOD:PUBLISH
X-WR-CALNAME:Musquodoboit Valley Rifle &amp; Revolver Club (MVRRC)
X-ORIGINAL-URL:https://mvrrc.ca
X-WR-CALDESC:Events for Musquodoboit Valley Rifle &amp; Revolver Club (MVRRC)
REFRESH-INTERVAL;VALUE=DURATION:PT1H
X-Robots-Tag:noindex
X-PUBLISHED-TTL:PT1H
BEGIN:VTIMEZONE
TZID:America/Halifax
BEGIN:DAYLIGHT
TZOFFSETFROM:-0400
TZOFFSETTO:-0300
TZNAME:ADT
DTSTART:20230312T060000
END:DAYLIGHT
BEGIN:STANDARD
TZOFFSETFROM:-0300
TZOFFSETTO:-0400
TZNAME:AST
DTSTART:20231105T050000
END:STANDARD
BEGIN:DAYLIGHT
TZOFFSETFROM:-0400
TZOFFSETTO:-0300
TZNAME:ADT
DTSTART:20240310T060000
END:DAYLIGHT
BEGIN:STANDARD
TZOFFSETFROM:-0300
TZOFFSETTO:-0400
TZNAME:AST
DTSTART:20241103T050000
END:STANDARD
BEGIN:DAYLIGHT
TZOFFSETFROM:-0400
TZOFFSETTO:-0300
TZNAME:ADT
DTSTART:20250309T060000
END:DAYLIGHT
BEGIN:STANDARD
TZOFFSETFROM:-0300
TZOFFSETTO:-0400
TZNAME:AST
DTSTART:20251102T050000
END:STANDARD
END:VTIMEZONE
BEGIN:VEVENT
DTSTART;TZID=America/Halifax:20240522T080000
DTEND;TZID=America/Halifax:20240522T170000
DTSTAMP:20260419T170005
CREATED:20240419T143614Z
LAST-MODIFIED:20240419T192724Z
UID:10000385-1716364800-1716397200@mvrrc.ca
SUMMARY:Private Event (please open event for more info)
DESCRIPTION:Rifle 1 & Pistol 1 ranges are reserved for this event. \nThese ranges are not available to the general membership. \nAll other ranges are available to the general membership.
URL:https://mvrrc.ca/event/private-event-please-open-event-for-more-info-65/2024-05-22/
CATEGORIES:Rental - HRP
END:VEVENT
BEGIN:VEVENT
DTSTART;TZID=America/Halifax:20240522T080000
DTEND;TZID=America/Halifax:20240522T170000
DTSTAMP:20260419T170005
CREATED:20240419T180704Z
LAST-MODIFIED:20240419T201335Z
UID:10000462-1716364800-1716397200@mvrrc.ca
SUMMARY:Private Event (please open event for more info)
DESCRIPTION:Rifle 4 & Rifle 5 ranges are reserved for this event. \nDuring the day\, the group will be alternating between these two ranges. \nThese ranges are not available to the general membership. \nAll other ranges are available to the general membership.
URL:https://mvrrc.ca/event/private-event-cat3-please-open-event-for-more-info-5/
CATEGORIES:Rental - ERT
END:VEVENT
END:VCALENDAR