BEGIN:VCALENDAR
VERSION:2.0
PRODID:-//Musquodoboit Valley Rifle &amp; Revolver Club (MVRRC) - ECPv6.15.20//NONSGML v1.0//EN
CALSCALE:GREGORIAN
METHOD:PUBLISH
X-WR-CALNAME:Musquodoboit Valley Rifle &amp; Revolver Club (MVRRC)
X-ORIGINAL-URL:https://mvrrc.ca
X-WR-CALDESC:Events for Musquodoboit Valley Rifle &amp; Revolver Club (MVRRC)
REFRESH-INTERVAL;VALUE=DURATION:PT1H
X-Robots-Tag:noindex
X-PUBLISHED-TTL:PT1H
BEGIN:VTIMEZONE
TZID:America/Halifax
BEGIN:DAYLIGHT
TZOFFSETFROM:-0400
TZOFFSETTO:-0300
TZNAME:ADT
DTSTART:20220313T060000
END:DAYLIGHT
BEGIN:STANDARD
TZOFFSETFROM:-0300
TZOFFSETTO:-0400
TZNAME:AST
DTSTART:20221106T050000
END:STANDARD
BEGIN:DAYLIGHT
TZOFFSETFROM:-0400
TZOFFSETTO:-0300
TZNAME:ADT
DTSTART:20230312T060000
END:DAYLIGHT
BEGIN:STANDARD
TZOFFSETFROM:-0300
TZOFFSETTO:-0400
TZNAME:AST
DTSTART:20231105T050000
END:STANDARD
BEGIN:DAYLIGHT
TZOFFSETFROM:-0400
TZOFFSETTO:-0300
TZNAME:ADT
DTSTART:20240310T060000
END:DAYLIGHT
BEGIN:STANDARD
TZOFFSETFROM:-0300
TZOFFSETTO:-0400
TZNAME:AST
DTSTART:20241103T050000
END:STANDARD
BEGIN:DAYLIGHT
TZOFFSETFROM:-0400
TZOFFSETTO:-0300
TZNAME:ADT
DTSTART:20250309T060000
END:DAYLIGHT
BEGIN:STANDARD
TZOFFSETFROM:-0300
TZOFFSETTO:-0400
TZNAME:AST
DTSTART:20251102T050000
END:STANDARD
END:VTIMEZONE
BEGIN:VEVENT
DTSTART;TZID=America/Halifax:20240304T093000
DTEND;TZID=America/Halifax:20240304T163000
DTSTAMP:20260424T214224
CREATED:20240229T201036Z
LAST-MODIFIED:20240229T201036Z
UID:10000365-1709544600-1709569800@mvrrc.ca
SUMMARY:Private Event (please open event for more info)
DESCRIPTION:Rifle 1 & Pistol 1 ranges are reserved for this event. \nThese ranges are not available to the general membership. \nAll other ranges are available to the general membership.
URL:https://mvrrc.ca/event/private-event-please-open-event-for-more-info-62/
CATEGORIES:Private Event - Club or Members
END:VEVENT
BEGIN:VEVENT
DTSTART;TZID=America/Halifax:20240227T093000
DTEND;TZID=America/Halifax:20240227T163000
DTSTAMP:20260424T214224
CREATED:20240229T200705Z
LAST-MODIFIED:20240229T200705Z
UID:10000364-1709026200-1709051400@mvrrc.ca
SUMMARY:Private Event (please open event for more info)
DESCRIPTION:Rifle 1 & Pistol 1 ranges are reserved for this event. \nThese ranges are not available to the general membership. \nAll other ranges are available to the general membership.
URL:https://mvrrc.ca/event/private-event-please-open-event-for-more-info-61/
CATEGORIES:Private Event - Club or Members
END:VEVENT
BEGIN:VEVENT
DTSTART;TZID=America/Halifax:20240112T100000
DTEND;TZID=America/Halifax:20240112T170000
DTSTAMP:20260424T214224
CREATED:20240103T234437Z
LAST-MODIFIED:20240103T234437Z
UID:10000346-1705053600-1705078800@mvrrc.ca
SUMMARY:Private Event (please open event for more info)
DESCRIPTION:Rifle 1 & Pistol 1 ranges are reserved for this event. \nThese ranges are not available to the general membership. \nAll other ranges are available to the general membership.
URL:https://mvrrc.ca/event/private-event-please-open-event-for-more-info-47/
CATEGORIES:Private Event - Club or Members
END:VEVENT
BEGIN:VEVENT
DTSTART;TZID=America/Halifax:20240111T100000
DTEND;TZID=America/Halifax:20240111T170000
DTSTAMP:20260424T214224
CREATED:20240103T234331Z
LAST-MODIFIED:20240103T234331Z
UID:10000345-1704967200-1704992400@mvrrc.ca
SUMMARY:Private Event (please open event for more info)
DESCRIPTION:Rifle 1 & Pistol 1 ranges are reserved for this event. \nThese ranges are not available to the general membership. \nAll other ranges are available to the general membership.
URL:https://mvrrc.ca/event/private-event-please-open-event-for-more-info-46/
CATEGORIES:Private Event - Club or Members
END:VEVENT
BEGIN:VEVENT
DTSTART;TZID=America/Halifax:20240108T100000
DTEND;TZID=America/Halifax:20240108T170000
DTSTAMP:20260424T214224
CREATED:20240103T234037Z
LAST-MODIFIED:20240103T234037Z
UID:10000343-1704708000-1704733200@mvrrc.ca
SUMMARY:Private Event (please open event for more info)
DESCRIPTION:Rifle 1 & Pistol 1 ranges are reserved for this event. \nThese ranges are not available to the general membership. \nAll other ranges are available to the general membership.
URL:https://mvrrc.ca/event/private-event-please-open-event-for-more-info-44/
CATEGORIES:Private Event - Club or Members
END:VEVENT
BEGIN:VEVENT
DTSTART;TZID=America/Halifax:20231222T080000
DTEND;TZID=America/Halifax:20231222T123000
DTSTAMP:20260424T214224
CREATED:20231206T220135Z
LAST-MODIFIED:20231206T220135Z
UID:10000316-1703232000-1703248200@mvrrc.ca
SUMMARY:PRIVATE EVENT (please open event for more info)
DESCRIPTION:Rifle 1 & Pistol 1 ranges are reserved for this event.\nThese ranges are not available to the general membership.\nAll other ranges are available to the general membership.
URL:https://mvrrc.ca/event/private-event-please-open-event-for-more-info-43/
CATEGORIES:Private Event - Club or Members
END:VEVENT
BEGIN:VEVENT
DTSTART;TZID=America/Halifax:20231027T080000
DTEND;TZID=America/Halifax:20231027T140000
DTSTAMP:20260424T214224
CREATED:20231023T162230Z
LAST-MODIFIED:20231023T162432Z
UID:10000314-1698393600-1698415200@mvrrc.ca
SUMMARY:PRIVATE EVENT (Please open event for more info)
DESCRIPTION:Rifle 1 & Pistol 1 ranges are reserved for this event. \nThese ranges are not available to the general membership. \nAll other ranges are available to the general membership.
URL:https://mvrrc.ca/event/private-event-please-open-event-for-more-info-42/
CATEGORIES:Private Event - Club or Members
END:VEVENT
BEGIN:VEVENT
DTSTART;TZID=America/Halifax:20231019T083000
DTEND;TZID=America/Halifax:20231019T163000
DTSTAMP:20260424T214224
CREATED:20230627T222952Z
LAST-MODIFIED:20230627T222952Z
UID:10000311-1697704200-1697733000@mvrrc.ca
SUMMARY:Private Event (please open event for more info)
DESCRIPTION:Rifle 1 & Pistol 1 ranges are reserved for this event. \nThese ranges are not available to the general membership. \nAll other ranges are available to the general membership.
URL:https://mvrrc.ca/event/private-event-please-open-event-for-more-info-40/
CATEGORIES:Private Event - Club or Members
END:VEVENT
BEGIN:VEVENT
DTSTART;TZID=America/Halifax:20231018T083000
DTEND;TZID=America/Halifax:20231018T163000
DTSTAMP:20260424T214224
CREATED:20230627T222832Z
LAST-MODIFIED:20230627T222832Z
UID:10000310-1697617800-1697646600@mvrrc.ca
SUMMARY:Private Event (please open event for more info)
DESCRIPTION:Rifle 1 & Pistol 1 ranges are reserved for this event. \nThese ranges are not available to the general membership. \nAll other ranges are available to the general membership.
URL:https://mvrrc.ca/event/private-event-please-open-event-for-more-info-39/
CATEGORIES:Private Event - Club or Members
END:VEVENT
BEGIN:VEVENT
DTSTART;TZID=America/Halifax:20231017T083000
DTEND;TZID=America/Halifax:20231017T163000
DTSTAMP:20260424T214224
CREATED:20230627T222717Z
LAST-MODIFIED:20230627T222717Z
UID:10000309-1697531400-1697560200@mvrrc.ca
SUMMARY:Private Event (please open event for more info)
DESCRIPTION:Rifle 1 & Pistol 1 ranges are reserved for this event. \nThese ranges are not available to the general membership. \nAll other ranges are available to the general membership.
URL:https://mvrrc.ca/event/private-event-please-open-event-for-more-info-38/
CATEGORIES:Private Event - Club or Members
END:VEVENT
BEGIN:VEVENT
DTSTART;TZID=America/Halifax:20231010T083000
DTEND;TZID=America/Halifax:20231010T163000
DTSTAMP:20260424T214224
CREATED:20230920T150054Z
LAST-MODIFIED:20230920T150054Z
UID:10000313-1696926600-1696955400@mvrrc.ca
SUMMARY:Private Event (Please open event for more info)
DESCRIPTION:Rifle 1 & Pistol 1 ranges are reserved for this event. \nThese ranges are not available to the general membership. \nAll other ranges are available to the general membership.
URL:https://mvrrc.ca/event/private-event-please-open-event-for-more-info-41/
CATEGORIES:Private Event - Club or Members
END:VEVENT
BEGIN:VEVENT
DTSTART;TZID=America/Halifax:20230928T083000
DTEND;TZID=America/Halifax:20230928T163000
DTSTAMP:20260424T214224
CREATED:20230627T222530Z
LAST-MODIFIED:20230627T222530Z
UID:10000308-1695889800-1695918600@mvrrc.ca
SUMMARY:Private Event (please open event for more info)
DESCRIPTION:Rifle 1 & Pistol 1 ranges are reserved for this event. \nThese ranges are not available to the general membership. \nAll other ranges are available to the general membership.
URL:https://mvrrc.ca/event/private-event-please-open-event-for-more-info-37/
CATEGORIES:Private Event - Club or Members
END:VEVENT
BEGIN:VEVENT
DTSTART;TZID=America/Halifax:20230927T083000
DTEND;TZID=America/Halifax:20230927T163000
DTSTAMP:20260424T214224
CREATED:20230627T221633Z
LAST-MODIFIED:20230627T221633Z
UID:10000307-1695803400-1695832200@mvrrc.ca
SUMMARY:Private Event (please open event for more info)
DESCRIPTION:Rifle 1 & Pistol 1 ranges are reserved for this event. \nThese ranges are not available to the general membership. \nAll other ranges are available to the general membership.
URL:https://mvrrc.ca/event/private-event-please-open-event-for-more-info-36/
CATEGORIES:Private Event - Club or Members
END:VEVENT
BEGIN:VEVENT
DTSTART;TZID=America/Halifax:20230926T083000
DTEND;TZID=America/Halifax:20230926T163000
DTSTAMP:20260424T214224
CREATED:20230627T221457Z
LAST-MODIFIED:20230627T221457Z
UID:10000306-1695717000-1695745800@mvrrc.ca
SUMMARY:Private Event (please open event for more info)
DESCRIPTION:Rifle 1 & Pistol 1 ranges are reserved for this event. \nThese ranges are not available to the general membership. \nAll other ranges are available to the general membership.
URL:https://mvrrc.ca/event/private-event-please-open-event-for-more-info-35/
CATEGORIES:Private Event - Club or Members
END:VEVENT
BEGIN:VEVENT
DTSTART;TZID=America/Halifax:20230914T083000
DTEND;TZID=America/Halifax:20230914T163000
DTSTAMP:20260424T214224
CREATED:20230627T221342Z
LAST-MODIFIED:20230627T221342Z
UID:10000305-1694680200-1694709000@mvrrc.ca
SUMMARY:Private Event (please open event for more info)
DESCRIPTION:Rifle 1 & Pistol 1 ranges are reserved for this event. \nThese ranges are not available to the general membership. \nAll other ranges are available to the general membership.
URL:https://mvrrc.ca/event/private-event-please-open-event-for-more-info-34/
CATEGORIES:Private Event - Club or Members
END:VEVENT
BEGIN:VEVENT
DTSTART;TZID=America/Halifax:20230913T083000
DTEND;TZID=America/Halifax:20230913T163000
DTSTAMP:20260424T214224
CREATED:20230627T221226Z
LAST-MODIFIED:20230627T221226Z
UID:10000304-1694593800-1694622600@mvrrc.ca
SUMMARY:Private Event (please open event for more info)
DESCRIPTION:Rifle 1 & Pistol 1 ranges are reserved for this event. \nThese ranges are not available to the general membership. \nAll other ranges are available to the general membership.
URL:https://mvrrc.ca/event/private-event-please-open-event-for-more-info-33/
CATEGORIES:Private Event - Club or Members
END:VEVENT
BEGIN:VEVENT
DTSTART;TZID=America/Halifax:20230912T083000
DTEND;TZID=America/Halifax:20230912T163000
DTSTAMP:20260424T214224
CREATED:20230627T221055Z
LAST-MODIFIED:20230627T221055Z
UID:10000303-1694507400-1694536200@mvrrc.ca
SUMMARY:Private Event (please open event for more info)
DESCRIPTION:Rifle 1 & Pistol 1 ranges are reserved for this event. \nThese ranges are not available to the general membership. \nAll other ranges are available to the general membership.
URL:https://mvrrc.ca/event/private-event-please-open-event-for-more-info-32/
CATEGORIES:Private Event - Club or Members
END:VEVENT
BEGIN:VEVENT
DTSTART;TZID=America/Halifax:20230623T080000
DTEND;TZID=America/Halifax:20230623T170000
DTSTAMP:20260424T214224
CREATED:20230221T135845Z
LAST-MODIFIED:20230305T181214Z
UID:10000252-1687507200-1687539600@mvrrc.ca
SUMMARY:Private Event (Please open event for more info)
DESCRIPTION:Rifle 1 & Pistol 1 ranges are reserved for this event. These ranges are not available to the general membership. \nAll other ranges are available to the general membership.
URL:https://mvrrc.ca/event/private-event-please-open-event-for-more-info-10/
CATEGORIES:Private Event - Club or Members
END:VEVENT
BEGIN:VEVENT
DTSTART;TZID=America/Halifax:20230622T080000
DTEND;TZID=America/Halifax:20230622T170000
DTSTAMP:20260424T214224
CREATED:20230221T140054Z
LAST-MODIFIED:20230305T181726Z
UID:10000253-1687420800-1687453200@mvrrc.ca
SUMMARY:Private Event (Please open event for more info)
DESCRIPTION:Rifle 1 & Pistol 1 ranges are reserved for this event. These ranges are not available to the general membership. \nAll other ranges are available to the general membership.
URL:https://mvrrc.ca/event/private-event-please-open-event-for-more-info-11/
CATEGORIES:Private Event - Club or Members
END:VEVENT
BEGIN:VEVENT
DTSTART;TZID=America/Halifax:20230621T080000
DTEND;TZID=America/Halifax:20230621T170000
DTSTAMP:20260424T214224
CREATED:20230221T135738Z
LAST-MODIFIED:20230305T181939Z
UID:10000251-1687334400-1687366800@mvrrc.ca
SUMMARY:Private Event (Please open event for more info)
DESCRIPTION:Rifle 1 & Pistol 1 ranges are reserved for this event. These ranges are not available to the general membership. \nAll other ranges are available to the general membership.
URL:https://mvrrc.ca/event/private-event-please-open-event-for-more-info-9/
CATEGORIES:Private Event - Club or Members
END:VEVENT
BEGIN:VEVENT
DTSTART;TZID=America/Halifax:20230620T133000
DTEND;TZID=America/Halifax:20230620T170000
DTSTAMP:20260424T214224
CREATED:20230610T194408Z
LAST-MODIFIED:20230610T194408Z
UID:10000302-1687267800-1687280400@mvrrc.ca
SUMMARY:Private Event (Please open event for more info)
DESCRIPTION:Shotgun Range #1 is reserved for this event. It is not available to the general membership.
URL:https://mvrrc.ca/event/private-event-please-open-event-for-more-info-31/
CATEGORIES:Private Event - Club or Members
END:VEVENT
BEGIN:VEVENT
DTSTART;TZID=America/Halifax:20230620T080000
DTEND;TZID=America/Halifax:20230620T170000
DTSTAMP:20260424T214224
CREATED:20230221T135610Z
LAST-MODIFIED:20230305T182043Z
UID:10000250-1687248000-1687280400@mvrrc.ca
SUMMARY:Private Event (Please open event for more info)
DESCRIPTION:Rifle 1 & Pistol 1 ranges are reserved for this event. These ranges are not available to the general membership. \nAll other ranges are available to the general membership.
URL:https://mvrrc.ca/event/private-event-please-open-event-for-more-info-8/
CATEGORIES:Private Event - Club or Members
END:VEVENT
BEGIN:VEVENT
DTSTART;TZID=America/Halifax:20230619T133000
DTEND;TZID=America/Halifax:20230619T170000
DTSTAMP:20260424T214224
CREATED:20230610T194307Z
LAST-MODIFIED:20230610T194307Z
UID:10000301-1687181400-1687194000@mvrrc.ca
SUMMARY:Private Event (Please open event for more info)
DESCRIPTION:Shotgun Range #1 is reserved for this event. It is not available to the general membership.
URL:https://mvrrc.ca/event/private-event-please-open-event-for-more-info-21/
CATEGORIES:Private Event - Club or Members
END:VEVENT
BEGIN:VEVENT
DTSTART;TZID=America/Halifax:20230619T080000
DTEND;TZID=America/Halifax:20230619T170000
DTSTAMP:20260424T214224
CREATED:20230221T135512Z
LAST-MODIFIED:20230305T182135Z
UID:10000249-1687161600-1687194000@mvrrc.ca
SUMMARY:Private Event (Please open event for more info)
DESCRIPTION:Rifle 1 & Pistol 1 ranges are reserved for this event. These ranges are not available to the general membership. \nAll other ranges are available to the general membership.
URL:https://mvrrc.ca/event/private-event-please-open-event-for-more-info-7/
CATEGORIES:Private Event - Club or Members
END:VEVENT
BEGIN:VEVENT
DTSTART;TZID=America/Halifax:20230616T080000
DTEND;TZID=America/Halifax:20230616T170000
DTSTAMP:20260424T214224
CREATED:20230221T135316Z
LAST-MODIFIED:20230305T182243Z
UID:10000248-1686902400-1686934800@mvrrc.ca
SUMMARY:Private Event (Please open event for more info)
DESCRIPTION:Rifle 1 & Pistol 1 ranges are reserved for this event. These ranges are not available to the general membership. \nAll other ranges are available to the general membership.
URL:https://mvrrc.ca/event/private-event-please-open-event-for-more-info-6/
CATEGORIES:Private Event - Club or Members
END:VEVENT
BEGIN:VEVENT
DTSTART;TZID=America/Halifax:20230615T080000
DTEND;TZID=America/Halifax:20230615T170000
DTSTAMP:20260424T214224
CREATED:20230221T135213Z
LAST-MODIFIED:20230305T184032Z
UID:10000247-1686816000-1686848400@mvrrc.ca
SUMMARY:Private Event (Please open event for more info)
DESCRIPTION:Rifle 1 & Pistol 1 ranges are reserved for this event. These ranges are not available to the general membership. \nAll other ranges are available to the general membership.
URL:https://mvrrc.ca/event/private-event-please-open-event-for-more-info-5/
CATEGORIES:Private Event - Club or Members
END:VEVENT
BEGIN:VEVENT
DTSTART;TZID=America/Halifax:20230614T080000
DTEND;TZID=America/Halifax:20230614T170000
DTSTAMP:20260424T214224
CREATED:20230221T135044Z
LAST-MODIFIED:20230305T184128Z
UID:10000246-1686729600-1686762000@mvrrc.ca
SUMMARY:Private Event (Please open event for more info)
DESCRIPTION:Rifle 1 & Pistol 1 ranges are reserved for this event. These ranges are not available to the general membership. \nAll other ranges are available to the general membership.
URL:https://mvrrc.ca/event/private-event-please-open-event-for-more-info-4/
CATEGORIES:Private Event - Club or Members
END:VEVENT
BEGIN:VEVENT
DTSTART;TZID=America/Halifax:20230613T080000
DTEND;TZID=America/Halifax:20230613T170000
DTSTAMP:20260424T214224
CREATED:20230221T134918Z
LAST-MODIFIED:20230305T184328Z
UID:10000245-1686643200-1686675600@mvrrc.ca
SUMMARY:Private Event (Please open event for more info)
DESCRIPTION:Rifle 1 & Pistol 1 ranges are reserved for this event. These ranges are not available to the general membership. \nAll other ranges are available to the general membership.
URL:https://mvrrc.ca/event/private-event-please-open-event-for-more-info-3/
CATEGORIES:Private Event - Club or Members
END:VEVENT
BEGIN:VEVENT
DTSTART;TZID=America/Halifax:20230612T080000
DTEND;TZID=America/Halifax:20230612T170000
DTSTAMP:20260424T214224
CREATED:20230221T134800Z
LAST-MODIFIED:20230305T184414Z
UID:10000244-1686556800-1686589200@mvrrc.ca
SUMMARY:Private Event (Please open event for more info)
DESCRIPTION:Rifle 1 & Pistol 1 ranges are reserved for this event. These ranges are not available to the general membership. \nAll other ranges are available to the general membership.
URL:https://mvrrc.ca/event/private-event-please-open-event-for-more-info-2/
CATEGORIES:Private Event - Club or Members
END:VEVENT
BEGIN:VEVENT
DTSTART;TZID=America/Halifax:20230609T080000
DTEND;TZID=America/Halifax:20230609T170000
DTSTAMP:20260424T214224
CREATED:20230523T173246Z
LAST-MODIFIED:20230605T172537Z
UID:10000300-1686297600-1686330000@mvrrc.ca
SUMMARY:Private Event (Please open event for more info)
DESCRIPTION:Rifle 1 & Pistol 1 ranges are reserved for this event. These ranges are not available to the general membership.
URL:https://mvrrc.ca/event/private-event-please-open-event-for-more-info-30/
CATEGORIES:Private Event - Club or Members
END:VEVENT
END:VCALENDAR