BEGIN:VCALENDAR
VERSION:2.0
PRODID:-//Musquodoboit Valley Rifle &amp; Revolver Club (MVRRC) - ECPv6.15.20//NONSGML v1.0//EN
CALSCALE:GREGORIAN
METHOD:PUBLISH
X-WR-CALNAME:Musquodoboit Valley Rifle &amp; Revolver Club (MVRRC)
X-ORIGINAL-URL:https://mvrrc.ca
X-WR-CALDESC:Events for Musquodoboit Valley Rifle &amp; Revolver Club (MVRRC)
REFRESH-INTERVAL;VALUE=DURATION:PT1H
X-Robots-Tag:noindex
X-PUBLISHED-TTL:PT1H
BEGIN:VTIMEZONE
TZID:America/Halifax
BEGIN:DAYLIGHT
TZOFFSETFROM:-0400
TZOFFSETTO:-0300
TZNAME:ADT
DTSTART:20220313T060000
END:DAYLIGHT
BEGIN:STANDARD
TZOFFSETFROM:-0300
TZOFFSETTO:-0400
TZNAME:AST
DTSTART:20221106T050000
END:STANDARD
BEGIN:DAYLIGHT
TZOFFSETFROM:-0400
TZOFFSETTO:-0300
TZNAME:ADT
DTSTART:20230312T060000
END:DAYLIGHT
BEGIN:STANDARD
TZOFFSETFROM:-0300
TZOFFSETTO:-0400
TZNAME:AST
DTSTART:20231105T050000
END:STANDARD
BEGIN:DAYLIGHT
TZOFFSETFROM:-0400
TZOFFSETTO:-0300
TZNAME:ADT
DTSTART:20240310T060000
END:DAYLIGHT
BEGIN:STANDARD
TZOFFSETFROM:-0300
TZOFFSETTO:-0400
TZNAME:AST
DTSTART:20241103T050000
END:STANDARD
END:VTIMEZONE
BEGIN:VEVENT
DTSTART;TZID=America/Halifax:20230318T090000
DTEND;TZID=America/Halifax:20230318T120000
DTSTAMP:20260423T185416
CREATED:20220808T113626Z
LAST-MODIFIED:20220808T115238Z
UID:10000224-1679130000-1679140800@mvrrc.ca
SUMMARY:Orientation Safety Briefing (Please open event for more info)
DESCRIPTION:To be eligible to attend\, you must first buy a membership online ( www.mvrrc.ca ). RPAL Occasional members are not able to attend as they have restricted shooting privileges. There is no need to preregister. Just drop-in with your eye & ear protection\, plus a copy of our Range Safety Handbook (please download from our website www.mvrrc.ca ). Please read the Handbook before you arrive as there is an open book test. \nThe day before you attend\, check the Notices page on our website ( www.mvrrc.ca ). From time to time a Briefing is cancelled. If the Briefing is cancelled we will post a Cancellation Notice by 5 pm the day before. If no Notice is posted\, please attend.
URL:https://mvrrc.ca/event/orientation-safety-briefing-please-open-event-for-more-info-4/
CATEGORIES:New Member Safety Briefings
END:VEVENT
BEGIN:VEVENT
DTSTART;TZID=America/Halifax:20230319T103000
DTEND;TZID=America/Halifax:20230319T133000
DTSTAMP:20260423T185416
CREATED:20230305T211629Z
LAST-MODIFIED:20230330T134204Z
UID:10000256-1679221800-1679232600@mvrrc.ca
SUMMARY:Shotgun Shoot (Please open event for more info)
DESCRIPTION:Everyone is welcome\, from the experienced shotgun shooter to the new shotgun shooter\, including the curious who may have never shot a shotgun (you will be provided instruction and an opportunity to shoot a shotgun at sporting clays). \nShotgun 1 & Rifle 5 ranges are reserved for this event. These ranges are not available to the general membership. \nAll other ranges are available to the general membership.
URL:https://mvrrc.ca/event/shotgun-shoot-please-open-event-for-more-info/2023-03-19/
CATEGORIES:Special Events
END:VEVENT
END:VCALENDAR