BEGIN:VCALENDAR
VERSION:2.0
PRODID:-//Musquodoboit Valley Rifle &amp; Revolver Club (MVRRC) - ECPv6.15.20//NONSGML v1.0//EN
CALSCALE:GREGORIAN
METHOD:PUBLISH
X-ORIGINAL-URL:https://mvrrc.ca
X-WR-CALDESC:Events for Musquodoboit Valley Rifle &amp; Revolver Club (MVRRC)
REFRESH-INTERVAL;VALUE=DURATION:PT1H
X-Robots-Tag:noindex
X-PUBLISHED-TTL:PT1H
BEGIN:VTIMEZONE
TZID:America/Halifax
BEGIN:DAYLIGHT
TZOFFSETFROM:-0400
TZOFFSETTO:-0300
TZNAME:ADT
DTSTART:20220313T060000
END:DAYLIGHT
BEGIN:STANDARD
TZOFFSETFROM:-0300
TZOFFSETTO:-0400
TZNAME:AST
DTSTART:20221106T050000
END:STANDARD
BEGIN:DAYLIGHT
TZOFFSETFROM:-0400
TZOFFSETTO:-0300
TZNAME:ADT
DTSTART:20230312T060000
END:DAYLIGHT
BEGIN:STANDARD
TZOFFSETFROM:-0300
TZOFFSETTO:-0400
TZNAME:AST
DTSTART:20231105T050000
END:STANDARD
BEGIN:DAYLIGHT
TZOFFSETFROM:-0400
TZOFFSETTO:-0300
TZNAME:ADT
DTSTART:20240310T060000
END:DAYLIGHT
BEGIN:STANDARD
TZOFFSETFROM:-0300
TZOFFSETTO:-0400
TZNAME:AST
DTSTART:20241103T050000
END:STANDARD
END:VTIMEZONE
BEGIN:VEVENT
DTSTART;TZID=America/Halifax:20230813T093000
DTEND;TZID=America/Halifax:20230813T160000
DTSTAMP:20260425T122840
CREATED:20230329T135954Z
LAST-MODIFIED:20230407T141434Z
UID:10000282-1691919000-1691942400@mvrrc.ca
SUMMARY:NFA Holster Course (Please open event for more info)
DESCRIPTION:(The NFA Holster Course is offered June 11\, Aug 13 & Sept 24) \n1. Preregistration and prepayment required (no drop-ins)\n2. For the Course Description please go to the Training page on our website\n3. For What to Bring please go to the Training page on our website\n3. Max 10 students\n4. Clubhouse\, Pistol 3 & 7 reserved for this course\n5. Registration at 9 am\, course starts at 9:30 am\n6. Cancellations:\n(a) if less than 7 days before the course – no refund\n(b) prior to 7 days before the course – refund of course fee\, less $50
URL:https://mvrrc.ca/event/nfa-holster-course-please-open-event-for-more-info-4/
CATEGORIES:Training Courses
END:VEVENT
BEGIN:VEVENT
DTSTART;TZID=America/Halifax:20230820T103000
DTEND;TZID=America/Halifax:20230820T133000
DTSTAMP:20260425T122840
CREATED:20230305T211629Z
LAST-MODIFIED:20230330T134204Z
UID:10000260-1692527400-1692538200@mvrrc.ca
SUMMARY:Shotgun Shoot (Please open event for more info)
DESCRIPTION:Everyone is welcome\, from the experienced shotgun shooter to the new shotgun shooter\, including the curious who may have never shot a shotgun (you will be provided instruction and an opportunity to shoot a shotgun at sporting clays). \nShotgun 1 & Rifle 5 ranges are reserved for this event. These ranges are not available to the general membership. \nAll other ranges are available to the general membership.
URL:https://mvrrc.ca/event/shotgun-shoot-please-open-event-for-more-info/2023-08-20/
CATEGORIES:Special Events
END:VEVENT
BEGIN:VEVENT
DTSTART;TZID=America/Halifax:20230826T090000
DTEND;TZID=America/Halifax:20230826T120000
DTSTAMP:20260425T122840
CREATED:20220808T114731Z
LAST-MODIFIED:20220808T114731Z
UID:10000229-1693040400-1693051200@mvrrc.ca
SUMMARY:Orientation Safety Briefing (Please open event for more info)
DESCRIPTION:To be eligible to attend\, you must first buy a membership online ( www.mvrrc.ca ). RPAL Occasional members are not able to attend as they have restricted shooting privileges. There is no need to preregister. Just drop-in with your eye & ear protection\, plus a copy of our Range Safety Handbook (please download from our website www.mvrrc.ca ). Please read the Handbook before you arrive as there is an open book test. \nThe day before you attend\, check the Notices page on our website ( www.mvrrc.ca ). From time to time a Briefing is cancelled. If the Briefing is cancelled we will post a Cancellation Notice by 5 pm the day before. If no Notice is posted\, please attend.
URL:https://mvrrc.ca/event/orientation-safety-briefing-please-open-event-for-more-info-9/
CATEGORIES:New Member Safety Briefings
END:VEVENT
BEGIN:VEVENT
DTSTART;TZID=America/Halifax:20230827T093000
DTEND;TZID=America/Halifax:20230827T160000
DTSTAMP:20260425T122840
CREATED:20230329T135104Z
LAST-MODIFIED:20230826T232111Z
UID:10000279-1693128600-1693152000@mvrrc.ca
SUMMARY:CANCELLED  -  Pistol Level I Course (Please open event for more info)
DESCRIPTION:(The Pistol Level I Course is offered July 9 & Aug 27) \n1. Preregistration and prepayment required (no drop-ins)\n2. For the Course Description please go to the Training page on our website\n3. For What to Bring please go to the Training page on our website\n3. Max 10 students\n4. Clubhouse\, Pistol 3 & 7 reserved for this course\n5. Registration at 9 am\, course starts at 9:30 am\n6. Cancellations:\n(a) if less than 7 days before the course – no refund\n(b) prior to 7 days before the course – refund of course fee\, less $50
URL:https://mvrrc.ca/event/pistol-level-i-course-please-open-event-for-more-info-3/
CATEGORIES:Training Courses
END:VEVENT
END:VCALENDAR